BEGIN:VCALENDAR
VERSION:2.0
CALSCALE:GREGORIAN
PRODID:adamgibbons/ics
METHOD:PUBLISH
X-PUBLISHED-TTL:PT1H
BEGIN:VEVENT
UID:13129@balotta.org
SUMMARY:La Tana della Talpa Edizione: RESISTENZE AL CAPITALISMO
DTSTAMP:20260420T013602Z
DTSTART:20260424T173000Z
DTEND:20260424T213000Z
URL:https://balotta.org/event/la-tana-della-talpa-edizione-resistenze-al-ca
	pitalismo
LOCATION:Vag61 - Via Paolo Fabbri 110
STATUS:CONFIRMED
CATEGORIES:dibattito e disagio,documentari action,doppia proiezione,entrata
	 libera,popcorn vegan,sedie scomode,Vag61
END:VEVENT
END:VCALENDAR
